BEGIN:VCALENDAR
VERSION:2.0
PRODID:-//St. Anne&#039;s, Washougal, WA - ECPv6.15.20//NONSGML v1.0//EN
CALSCALE:GREGORIAN
METHOD:PUBLISH
X-WR-CALNAME:St. Anne&#039;s, Washougal, WA
X-ORIGINAL-URL:https://stanneswa.com
X-WR-CALDESC:Events for St. Anne&#039;s, Washougal, WA
REFRESH-INTERVAL;VALUE=DURATION:PT1H
X-Robots-Tag:noindex
X-PUBLISHED-TTL:PT1H
BEGIN:VTIMEZONE
TZID:UTC
BEGIN:STANDARD
TZOFFSETFROM:+0000
TZOFFSETTO:+0000
TZNAME:UTC
DTSTART:20220101T000000
END:STANDARD
END:VTIMEZONE
BEGIN:VEVENT
DTSTART;TZID=UTC:20230314T190000
DTEND;TZID=UTC:20230314T210000
DTSTAMP:20260419T162838
CREATED:20230211T233938Z
LAST-MODIFIED:20230211T234023Z
UID:839-1678820400-1678827600@stanneswa.com
SUMMARY:Bishop's Committee Mtg
DESCRIPTION:
URL:https://stanneswa.com/event/bishops-committee-mtg/
END:VEVENT
END:VCALENDAR